Workbook

Sheet Menu
B2: Menu
C4: Pre Case Check List
C5: In Case Check List
C6: Case Selection Grid

Sheet Pre Case Tick List
B4: Pre Case Check List
C6: Case triage information reviewed | K6: FALSE
C7: NICE CKS guidance on data collection and management checked | K7: FALSE
C8: Pre consultation information sent | K8: FALSE
C9: Consent received | K9: FALSE
C43: Pre Consultation Information

Sheet In Case Tick List
B2: In Case Check List
B3: Time (min)
B4: 0 min | D4: Patient identification check and introduction | L4: FALSE
B5: 1 - 2 min | D5: Open questions / encourage story (1-2 min) | L5: FALSE
B6: 3 min | D6: Additional focussed questions to gather relevant data not covered e.g. risk factors, red flags, ideas,concerns, expectations, social context, impact on patient, patient solutions (1-2 min) | L6: FALSE
B7: 4 min | D7: Key info echoed back to patient to demonstrate understanding and show you care | L7: FALSE
B8: 5 min | D8: Examination (if appropriate) do not expose breasts, abdomen, groin (1-2 min) | L8: FALSE
B9: 6 - 7 min | D9: Summary of data, explanation of problem | L9: FALSE
B10: 7 min | D10: Lists and agrees management plan discussion points e.g. you said you would like to disucss pain relief, and tests, I suggest we also discuss self help, likely healing time, when to call us back, is there anything else you would like to cover? | L10: FALSE
B11: 9-10 min | D11: Safety netting / follow up | L11: FALSE

Sheet RCA Case selection Grid
K2: Cases that may be suitable for submission
K3: Case count | O3: =T!N11 -> 0
K4: Mandatory cases | O4: {=_xlfn.IFS(T!O9=1,"1/6",T!O9=2,"2/6",T!O9=3,"3/6",T!O9=4,"4/6",T!O9=5,"5/6",T!O9=6,"6/6",T!O9=0,"0/6" )} -> 0/6
K5: Curriculum Areas covered | O5: =T!N35 -> 0
K9: Ensure that at least one case covers urgent and unscheduled care e.g. acute asthma
E13: Timing | G13: Level of challenge | K13: Added value | O13: Interpersonal Skills | U13: Data Gathering | Y13: Clinical Management
B14: Case title / Reference | C14: Mandatory case | D14: Curriculum area | E14: Did you finish in 12 minutes (excluding time taken for identifiation and consent) | G14: Could a high street pharmacist have done this consultation? | I14: Did I create a multi step management plan? (self help, lifestyle, clinical) | K14: 1. Did I gather new data which impacted management? AND 2. If I collected info pre consultation e.g. images, home readings, did I discuss them? | M14: Did I create a new shared management plan? | O14: Did I clearly show that I treated the patient fairly and with respect, offering support? i.e. was I polite, did I show interest | Q14: Did I clearly establish an effective relationship? i.e. did the patient show satisfaction with my explanations and plan | S14: Did I clearly share the consultation eliciting/listening to the patients suggestions/solutions | U14: Used open and focused questions in a structured way to elicit relevant data. | W14: Interpret the info accurately and investigate scientifically i.e. Red flags identified. | Y14: Clearly created a shared management plan based on current treatment guidelines | AA14: Managed any concurrent health problems using the patients agenda and clinical judgement to prioritise use of time | AC14: Was this a new presentation or a follow up case | AE14: Score (max 14)
B15: Formula Row | F15: {=_xlfn.IFS(E15:E96="short",0,E15:E96="On time",2,E15:E96="Just over",1,E15:E96="Way over",0, E15:E96="",)} -> 0 | H15: {=_xlfn.IFS(G15:G96="Yes e.g. simple UTI; viral wart",-10,G15:G101="No e.g. breast lump; rectal bleeding; tired all the time",1, G15:G101="",)} -> 0 | J15: {=_xlfn.IFS(I15:I96="Yes",1,I15:I96="No a basic plan e.g. take antibiotics ",-10, I15:I96="",)} -> 0 | L15: {=_xlfn.IFS(K15:K96="Yes",1,K15:K96="No - Little or no new data was gathered",-10, K15:K96="",)} -> 0 | N15: {=_xlfn.IFS(M15:M96="Yes",1,M15:M96="No ",-10, M15:M96="",)} -> 0 | P15: {=_xlfn.IFS(O15:O96="Yes clearly",1,O15:O96="At times",0.5,O15:O96="No",-10, O15:O96="",)} -> 0 | R15: {=_xlfn.IFS(Q15:Q96="Yes clearly",1,Q15:Q96="At times",0.5,Q15:Q96="No",-10, Q15:Q96="",)} -> 0 | T15: {=_xlfn.IFS(S15:S96="Yes clearly",1,S15:S96="At times",0.5,S15:S96="No",-10, S15:S96="",)} -> 0 | V15: {=_xlfn.IFS(U15:U96="Yes clearly",1,U15:U96="At times",0.5,U15:U96="No",-10, U15:U96="",)} -> 0 | X15: {=_xlfn.IFS(W15:W96="Yes clearly",1,W15:W96="At times",0.5,W15:W96="No",-10, W15:W96="",)} -> 0 | Z15: {=_xlfn.IFS(Y15:Y96="Yes clearly",1,Y15:Y96="At times",0.5,Y15:Y96="No",-10, Y15:Y96="",)} -> 0 | AB15: {=_xlfn.IFS(AA15:AA96="Yes clearly",1,AA15:AA96="At times",0.5,AA15:AA96="No",-10, AA15:AA96="Not applicable",1,AA15:AA96="",)} -> 0 | AD15: {=_xlfn.IFS(AC15="New",1,AC15="Follow up",0, AC15="",)} -> 0 | AE15: =IF(ISBLANK(AC15)," ",SUM(AD15,AB15,Z15,X15,V15,T15,R15,P15,N15,L15,J15,H15,F15)) | AF15: {=IF(ISBLANK(AC15),"",(_xlfn.IFS(AE15>=13,"This case may be suitable for submission",AE15<13,"Consider submitting an alternative case")))}
F16: 0 | H16: 0 | J16: 0 | L16: 0 | N16: 0 | P16: 0 | R16: 0 | T16: 0 | V16: 0 | X16: 0 | Z16: 0 | AB16: 0 | AE16: =IF(ISBLANK(AC16)," ",SUM(AD16,AB16,Z16,X16,V16,T16,R16,P16,N16,L16,J16,H16,F16)) | AF16: {=IF(ISBLANK(AC16),"",(_xlfn.IFS(AE16>=13,"This case may be suitable for submission",AE16<13,"Consider submitting an alternative case")))}
F17: 0 | H17: 0 | J17: 0 | L17: 0 | N17: 0 | P17: 0 | R17: 0 | T17: 0 | V17: 0 | X17: 0 | Z17: 0 | AB17: 0 | AD17: {=_xlfn.IFS(AC17="New",1,AC17="Follow up",0, AC17="",)} -> 0 | AE17: =IF(ISBLANK(AC17)," ",SUM(AD17,AB17,Z17,X17,V17,T17,R17,P17,N17,L17,J17,H17,F17)) | AF17: {=IF(ISBLANK(AC17),"",(_xlfn.IFS(AE17>=13,"This case may be suitable for submission",AE17<13,"Consider submitting an alternative case")))}
F18: 0 | H18: 0 | J18: 0 | L18: 0 | N18: 0 | P18: 0 | R18: 0 | T18: 0 | V18: 0 | X18: 0 | Z18: 0 | AB18: 0 | AD18: {=_xlfn.IFS(AC18="New",1,AC18="Follow up",0, AC18="",)} -> 0 | AE18: =IF(ISBLANK(AC18)," ",SUM(AD18,AB18,Z18,X18,V18,T18,R18,P18,N18,L18,J18,H18,F18))
F19: 0 | H19: 0 | J19: 0 | L19: 0 | N19: 0 | P19: 0 | R19: 0 | T19: 0 | V19: 0 | X19: 0 | Z19: 0 | AB19: 0 | AD19: {=_xlfn.IFS(AC19="New",1,AC19="Follow up",0, AC19="",)} -> 0 | AE19: =IF(ISBLANK(AC19)," ",SUM(AD19,AB19,Z19,X19,V19,T19,R19,P19,N19,L19,J19,H19,F19))
F20: 0 | H20: 0 | J20: 0 | L20: 0 | N20: 0 | P20: 0 | R20: 0 | T20: 0 | V20: 0 | X20: 0 | Z20: 0 | AB20: 0 | AD20: {=_xlfn.IFS(AC20="New",1,AC20="Follow up",0, AC20="",)} -> 0 | AE20: =IF(ISBLANK(AC20)," ",SUM(AD20,AB20,Z20,X20,V20,T20,R20,P20,N20,L20,J20,H20,F20)) | AF20: {=IF(ISBLANK(AC20),"",(_xlfn.IFS(AE20>=13,"This case may be suitable for submission",AE20<13,"Consider submitting an alternative case")))}
F21: 0 | H21: 0 | J21: 0 | L21: 0 | N21: 0 | P21: 0 | R21: 0 | T21: 0 | V21: 0 | X21: 0 | Z21: 0 | AB21: 0 | AD21: {=_xlfn.IFS(AC21="New",1,AC21="Follow up",0, AC21="",)} -> 0 | AE21: =IF(ISBLANK(AC21)," ",SUM(AD21,AB21,Z21,X21,V21,T21,R21,P21,N21,L21,J21,H21,F21)) | AF21: {=IF(ISBLANK(AC21),"",(_xlfn.IFS(AE21>=13,"This case may be suitable for submission",AE21<13,"Consider submitting an alternative case")))}
F22: 0 | H22: 0 | J22: 0 | L22: 0 | N22: 0 | P22: 0 | R22: 0 | T22: 0 | V22: 0 | X22: 0 | Z22: 0 | AB22: 0 | AD22: {=_xlfn.IFS(AC22="New",1,AC22="Follow up",0, AC22="",)} -> 0 | AE22: =IF(ISBLANK(AC22)," ",SUM(AD22,AB22,Z22,X22,V22,T22,R22,P22,N22,L22,J22,H22,F22)) | AF22: {=IF(ISBLANK(AC22),"",(_xlfn.IFS(AE22>=13,"This case may be suitable for submission",AE22<13,"Consider submitting an alternative case")))}
F23: 0 | H23: 0 | J23: 0 | L23: 0 | N23: 0 | P23: 0 | R23: 0 | T23: 0 | V23: 0 | X23: 0 | Z23: 0 | AB23: 0 | AD23: {=_xlfn.IFS(AC23="New",1,AC23="Follow up",0, AC23="",)} -> 0 | AE23: =IF(ISBLANK(AC23)," ",SUM(AD23,AB23,Z23,X23,V23,T23,R23,P23,N23,L23,J23,H23,F23)) | AF23: {=IF(ISBLANK(AC23),"",(_xlfn.IFS(AE23>=13,"This case may be suitable for submission",AE23<13,"Consider submitting an alternative case")))}
F24: 0 | H24: 0 | J24: 0 | L24: 0 | N24: 0 | P24: 0 | R24: 0 | T24: 0 | V24: 0 | X24: 0 | Z24: 0 | AB24: 0 | AD24: {=_xlfn.IFS(AC24="New",1,AC24="Follow up",0, AC24="",)} -> 0 | AE24: =IF(ISBLANK(AC24)," ",SUM(AD24,AB24,Z24,X24,V24,T24,R24,P24,N24,L24,J24,H24,F24)) | AF24: {=IF(ISBLANK(AC24),"",(_xlfn.IFS(AE24>=13,"This case may be suitable for submission",AE24<13,"Consider submitting an alternative case")))}
F25: 0 | H25: 0 | J25: 0 | L25: 0 | N25: 0 | P25: 0 | R25: 0 | T25: 0 | V25: 0 | X25: 0 | Z25: 0 | AB25: 0 | AD25: {=_xlfn.IFS(AC25="New",1,AC25="Follow up",0, AC25="",)} -> 0 | AE25: =IF(ISBLANK(AC25)," ",SUM(AD25,AB25,Z25,X25,V25,T25,R25,P25,N25,L25,J25,H25,F25)) | AF25: {=IF(ISBLANK(AC25),"",(_xlfn.IFS(AE25>=13,"This case may be suitable for submission",AE25<13,"Consider submitting an alternative case")))}
F26: 0 | H26: 0 | J26: 0 | L26: 0 | N26: 0 | P26: 0 | R26: 0 | T26: 0 | V26: 0 | X26: 0 | Z26: 0 | AB26: 0 | AD26: {=_xlfn.IFS(AC26="New",1,AC26="Follow up",0, AC26="",)} -> 0 | AE26: =IF(ISBLANK(AC26)," ",SUM(AD26,AB26,Z26,X26,V26,T26,R26,P26,N26,L26,J26,H26,F26)) | AF26: {=IF(ISBLANK(AC26),"",(_xlfn.IFS(AE26>=13,"This case may be suitable for submission",AE26<13,"Consider submitting an alternative case")))}
F27: 0 | H27: 0 | J27: 0 | L27: 0 | N27: 0 | P27: 0 | R27: 0 | T27: 0 | V27: 0 | X27: 0 | Z27: 0 | AB27: 0 | AD27: {=_xlfn.IFS(AC27="New",1,AC27="Follow up",0, AC27="",)} -> 0 | AE27: =IF(ISBLANK(AC27)," ",SUM(AD27,AB27,Z27,X27,V27,T27,R27,P27,N27,L27,J27,H27,F27)) | AF27: {=IF(ISBLANK(AC27),"",(_xlfn.IFS(AE27>=13,"This case may be suitable for submission",AE27<13,"Consider submitting an alternative case")))}
F28: 0 | H28: 0 | J28: 0 | L28: 0 | N28: 0 | P28: 0 | R28: 0 | T28: 0 | V28: 0 | X28: 0 | Z28: 0 | AB28: 0 | AD28: {=_xlfn.IFS(AC28="New",1,AC28="Follow up",0, AC28="",)} -> 0 | AE28: =IF(ISBLANK(AC28)," ",SUM(AD28,AB28,Z28,X28,V28,T28,R28,P28,N28,L28,J28,H28,F28)) | AF28: {=IF(ISBLANK(AC28),"",(_xlfn.IFS(AE28>=13,"This case may be suitable for submission",AE28<13,"Consider submitting an alternative case")))}
F29: 0 | H29: 0 | J29: 0 | L29: 0 | N29: 0 | P29: 0 | R29: 0 | T29: 0 | V29: 0 | X29: 0 | Z29: 0 | AB29: 0 | AD29: {=_xlfn.IFS(AC29="New",1,AC29="Follow up",0, AC29="",)} -> 0 | AE29: =IF(ISBLANK(AC29)," ",SUM(AD29,AB29,Z29,X29,V29,T29,R29,P29,N29,L29,J29,H29,F29)) | AF29: {=IF(ISBLANK(AC29),"",(_xlfn.IFS(AE29>=13,"This case may be suitable for submission",AE29<13,"Consider submitting an alternative case")))}
F30: 0 | H30: 0 | J30: 0 | L30: 0 | N30: 0 | P30: 0 | R30: 0 | T30: 0 | V30: 0 | X30: 0 | Z30: 0 | AB30: 0 | AD30: {=_xlfn.IFS(AC30="New",1,AC30="Follow up",0, AC30="",)} -> 0 | AE30: =IF(ISBLANK(AC30)," ",SUM(AD30,AB30,Z30,X30,V30,T30,R30,P30,N30,L30,J30,H30,F30)) | AF30: {=IF(ISBLANK(AC30),"",(_xlfn.IFS(AE30>=13,"This case may be suitable for submission",AE30<13,"Consider submitting an alternative case")))}
F31: 0 | H31: 0 | J31: 0 | L31: 0 | N31: 0 | P31: 0 | R31: 0 | T31: 0 | V31: 0 | X31: 0 | Z31: 0 | AB31: 0 | AD31: {=_xlfn.IFS(AC31="New",1,AC31="Follow up",0, AC31="",)} -> 0 | AE31: =IF(ISBLANK(AC31)," ",SUM(AD31,AB31,Z31,X31,V31,T31,R31,P31,N31,L31,J31,H31,F31)) | AF31: {=IF(ISBLANK(AC31),"",(_xlfn.IFS(AE31>=13,"This case may be suitable for submission",AE31<13,"Consider submitting an alternative case")))}
... F95: 0 | H95: 0 | J95: 0 | L95: 0 | N95: 0 | P95: 0 | R95: 0 | T95: 0 | V95: 0 | X95: 0 | Z95: 0 | AB95: 0 | AD95: {=_xlfn.IFS(AC95="New",1,AC95="Follow up",0, AC95="",)} -> 0 | AE95: =IF(ISBLANK(AC95)," ",SUM(AD95,AB95,Z95,X95,V95,T95,R95,P95,N95,L95,J95,H95,F95)) | AF95: {=IF(ISBLANK(AC95),"",(_xlfn.IFS(AE95>=13,"This case may be suitable for submission",AE95<13,"Consider submitting an alternative case")))}
F96: 0 | H96: 0 | J96: 0 | L96: 0 | N96: 0 | P96: 0 | R96: 0 | T96: 0 | V96: 0 | X96: 0 | Z96: 0 | AB96: 0
H97: #N/A
H98: #N/A
H99: #N/A
H100: #N/A
H101: #N/A

Sheet T
M1: Submittable Cases
A2: {='RCA Case selection Grid'!AE15:AE95} | B2: {='RCA Case selection Grid'!B15:D95} -> Formula Row | C2: 0 | D2: 0 | H2: {=_xlfn._xlws.FILTER(A2:D82,A2:A82>12)} | I2: Formula Row | J2: 0 | K2: 0 | M2: Adult Cases | N2: =COUNTIF(J2:J81,"Adult") -> 0 | O2: =IF(N2>0,1,0) -> 0
B3: 0 | C3: 0 | D3: 0 | I3: 0 | J3: 0 | K3: 0 | M3: Child Cases | N3: =COUNTIF(J2:J81,"Child") -> 0 | O3: =IF(N3>0,1,0) -> 0
B4: 0 | C4: 0 | D4: 0 | I4: 0 | J4: 0 | K4: 0 | M4: Elderly Cases | N4: =COUNTIF($J$2:$J$81,"Elderly") -> 0 | O4: =IF(N4>0,1,0) -> 0
B5: 0 | C5: 0 | D5: 0 | I5: 0 | J5: 0 | K5: 0 | M5: Acute | N5: =COUNTIF($J$2:$J$81,"Acute") -> 0 | O5: =IF(N5>0,1,0) -> 0
B6: 0 | C6: 0 | D6: 0 | I6: 0 | J6: 0 | K6: 0 | M6: Gynae | N6: =COUNTIF($J$2:$J$81,"Gynae") -> 0 | O6: =IF(N6>0,1,0) -> 0
B7: 0 | C7: 0 | D7: 0 | I7: 0 | J7: 0 | K7: 0 | M7: Long-Term-Condition | N7: =COUNTIF($J$2:$J$81,"Long-Term-Condition") -> 0 | O7: =IF(N7>0,1,0) -> 0
B8: 0 | C8: 0 | D8: 0 | I8: 0 | J8: 0 | K8: 0 | M8: Mental | N8: =COUNTIF($J$2:$J$81,"Mental") -> 0 | O8: =IF(N8>0,1,0) -> 0
B9: 0 | C9: 0 | D9: 0 | I9: 0 | J9: 0 | K9: 0 | N9: Age spread | O9: =SUM(O2:O8) -> 0
B10: 0 | C10: 0 | D10: 0 | I10: 0 | J10: 0 | K10: 0
B11: 0 | C11: 0 | D11: 0 | I11: 0 | J11: 0 | K11: 0 | M11: Case Count | N11: =COUNT(H2:H82) -> 0
B12: 0 | C12: 0 | D12: 0 | I12: 0 | J12: 0 | K12: 0
B13: 0 | C13: 0 | D13: 0 | I13: 0 | J13: 0 | K13: 0 | M13: Case variety
B14: 0 | C14: 0 | D14: 0 | I14: 0 | J14: 0 | K14: 0 | M14: Cardiovascular | N14: =COUNTIF(K2:K81,"Cardiovascular") -> 0 | O14: =N14>2 -> FALSE
B15: 0 | C15: 0 | D15: 0 | I15: 0 | J15: 0 | K15: 0 | M15: Derm | N15: =COUNTIF(K2:K81,"Derm") -> 0 | O15: =N15>2 -> FALSE
B16: 0 | C16: 0 | D16: 0 | I16: 0 | J16: 0 | K16: 0 | M16: ENT | N16: =COUNTIF(K2:K81,"ENT") -> 0 | O16: =N16>2 -> FALSE
B17: 0 | C17: 0 | D17: 0 | I17: 0 | J17: 0 | K17: 0 | M17: Eyes | N17: =COUNTIF(K2:K81,"Eyes") -> 0 | O17: =N17>2 -> FALSE
B18: 0 | C18: 0 | D18: 0 | I18: 0 | J18: 0 | K18: 0 | M18: Gastro | N18: =COUNTIF(K2:K81,"Gastro") -> 0 | O18: =N18>2 -> FALSE
B19: 0 | C19: 0 | D19: 0 | I19: 0 | J19: 0 | K19: 0 | M19: Genetics | N19: =COUNTIF(K2:K81,"Genetics") -> 0 | O19: =N19>2 -> FALSE
B20: 0 | C20: 0 | D20: 0 | I20: 0 | J20: 0 | K20: 0 | M20: Gynae | N20: =COUNTIF(K2:K81,"Gynae") -> 0 | O20: =N20>2 -> FALSE
B21: 0 | C21: 0 | D21: 0 | I21: 0 | J21: 0 | K21: 0 | M21: Haematology | N21: =COUNTIF(K2:K81,"Haematology") -> 0 | O21: =N21>2 -> FALSE
B22: 0 | C22: 0 | D22: 0 | I22: 0 | J22: 0 | K22: 0 | M22: Infectious | N22: =COUNTIF(K2:K81,"Infectious") -> 0 | O22: =N22>2 -> FALSE
B23: 0 | C23: 0 | D23: 0 | I23: 0 | J23: 0 | K23: 0 | M23: Renal/Urology | N23: =COUNTIF(K2:K81,"Renal/Urology") -> 0 | O23: =N23>2 -> FALSE
B24: 0 | C24: 0 | D24: 0 | I24: 0 | J24: 0 | K24: 0 | M24: Mental health | N24: =COUNTIF(K2:K81,"Mental health") -> 0 | O24: =N24>2 -> FALSE
B25: 0 | C25: 0 | D25: 0 | I25: 0 | J25: 0 | K25: 0 | M25: Metabolic/Endo | N25: =COUNTIF(K2:K81,"Metabolic/Endo") -> 0 | O25: =N25>2 -> FALSE
B26: 0 | C26: 0 | D26: 0 | I26: 0 | J26: 0 | K26: 0 | M26: MSK | N26: =COUNTIF(K2:K81,"MSK") -> 0 | O26: =N26>2 -> FALSE
B27: 0 | C27: 0 | D27: 0 | I27: 0 | J27: 0 | K27: 0 | M27: Neurodevelopmental | N27: =COUNTIF(K2:K81,"Neurodevelopmental") -> 0 | O27: =N27>2 -> FALSE
B28: 0 | C28: 0 | D28: 0 | I28: 0 | J28: 0 | K28: 0 | M28: Disability | N28: =COUNTIF(K2:K81,"Disability") -> 0 | O28: =N28>2 -> FALSE
B29: 0 | C29: 0 | D29: 0 | I29: 0 | J29: 0 | K29: 0 | M29: Neurology | N29: =COUNTIF(K2:K81,"Neurology") -> 0 | O29: =N29>2 -> FALSE
B30: 0 | C30: 0 | D30: 0 | I30: 0 | J30: 0 | K30: 0 | M30: Population health | N30: =COUNTIF(K2:K81,"Population health") -> 0 | O30: =N30>2 -> FALSE
B31: 0 | C31: 0 | D31: 0 | I31: 0 | J31: 0 | K31: 0 | M31: Respiratory | N31: =COUNTIF(K2:K81,"Respiratory") -> 0 | O31: =N31>2 -> FALSE
B32: 0 | C32: 0 | D32: 0 | I32: 0 | J32: 0 | K32: 0 | M32: Sexual | N32: =COUNTIF(K2:K81,"Sexual") -> 0 | O32: =N32>2 -> FALSE
B33: 0 | C33: 0 | D33: 0 | I33: 0 | J33: 0 | K33: 0 | M33: Lifestyle | N33: =COUNTIF(K2:K81,"Lifestyle") -> 0 | O33: =N33>2 -> FALSE
B34: 0 | C34: 0 | D34: 0 | I34: 0 | J34: 0 | K34: 0 | M34: Other | N34: =COUNTIF(K2:K81,"Other") -> 0 | O34: =N34>2 -> FALSE
B35: 0 | C35: 0 | D35: 0 | I35: 0 | J35: 0 | K35: 0 | M35: Number of curriculum areas covered | N35: =COUNTIF(N14:N34,">0") -> 0
B36: 0 | C36: 0 | D36: 0 | I36: 0 | J36: 0 | K36: 0
B37: 0 | C37: 0 | D37: 0 | I37: 0 | J37: 0 | K37: 0
B38: 0 | C38: 0 | D38: 0 | I38: 0 | J38: 0 | K38: 0
B39: 0 | C39: 0 | D39: 0 | I39: 0 | J39: 0 | K39: 0
B40: 0 | C40: 0 | D40: 0 | I40: 0 | J40: 0 | K40: 0
B41: 0 | C41: 0 | D41: 0 | I41: 0 | J41: 0 | K41: 0
B42: 0 | C42: 0 | D42: 0 | I42: 0 | J42: 0 | K42: 0
B43: 0 | C43: 0 | D43: 0 | I43: 0 | J43: 0 | K43: 0
B44: 0 | C44: 0 | D44: 0 | I44: 0 | J44: 0 | K44: 0
B45: 0 | C45: 0 | D45: 0 | I45: 0 | J45: 0 | K45: 0
B46: 0 | C46: 0 | D46: 0 | I46: 0 | J46: 0 | K46: 0
B47: 0 | C47: 0 | D47: 0 | I47: 0 | J47: 0 | K47: 0
... B82: 0 | C82: 0 | D82: 0 | I82: 0 | J82: 0 | K82: 0
